BEGIN:VCALENDAR
VERSION:2.0
PRODID:-//Tukios.com/
BEGIN:VEVENT
UID:17e8adfd-ad02-427d-a922-f178a090c197@www.maukandyates.com
DTSTAMP:20260424T202145Z
DTSTART:20260501T143000Z
DTEND:20260501T153000Z
SUMMARY:Funeral Service
DESCRIPTION:
URL:https://www.maukandyates.com/obituaries/phyllis-woodring
LOCATION: 806 11th St  Altoona PA 16602
GEO:40.5149965;-78.3971843
END:VEVENT
END:VCALENDAR