BEGIN:VCALENDAR
VERSION:2.0
PRODID:-//Tukios.com/
BEGIN:VEVENT
UID:2c00ec1c-abe9-449c-907f-6f66b5407353@www.maukandyates.com
DTSTAMP:20260424T202809Z
DTSTART:20260430T200000Z
DTEND:20260430T230000Z
SUMMARY:Visitation
DESCRIPTION:
URL:https://www.maukandyates.com/obituaries/phyllis-woodring
LOCATION:Mauk & Yates Funeral Home, Inc. 719 N 4th Ave  Altoona PA 16601
GEO:40.5390974;-78.3809912
END:VEVENT
END:VCALENDAR