BEGIN:VCALENDAR
VERSION:2.0
PRODID:-//Tukios.com/
BEGIN:VEVENT
UID:73867b30-4929-488a-8d68-3b64a239bda9@www.maukandyates.com
DTSTAMP:20260419T190302Z
DTSTART:20260422T140000Z
DTEND:20260422T150000Z
SUMMARY:Funeral Service
DESCRIPTION:
URL:https://www.maukandyates.com/obituaries/mary-carnell
LOCATION: 719 N 4th Ave  Altoona PA 16601
GEO:40.5390974;-78.3809912
END:VEVENT
END:VCALENDAR