BEGIN:VCALENDAR
VERSION:2.0
PRODID:-//Tukios.com/
BEGIN:VEVENT
UID:e9b6383f-25f4-42b7-a325-914ab0dc8eaf@www.maukandyates.com
DTSTAMP:20260419T190840Z
DTSTART:20260422T130000Z
DTEND:20260422T140000Z
SUMMARY:Visitation
DESCRIPTION:
URL:https://www.maukandyates.com/obituaries/mary-carnell
LOCATION:Mauk & Yates Funeral Home, Inc. 719 N 4th Ave  Altoona PA 16601
GEO:40.5390974;-78.3809912
END:VEVENT
END:VCALENDAR