BEGIN:VCALENDAR
VERSION:2.0
PRODID:-//Tukios.com/
BEGIN:VEVENT
UID:f2a57a2c-ab4d-4aa5-b4c2-ed30b00cb84c@www.maukandyates.com
DTSTAMP:20260419T190446Z
DTSTART:20260421T220000Z
DTEND:20260422T000000Z
SUMMARY:Visitation
DESCRIPTION:
URL:https://www.maukandyates.com/obituaries/mary-carnell
LOCATION:Mauk & Yates Funeral Home, Inc. 719 N 4th Ave  Altoona PA 16601
GEO:40.5390974;-78.3809912
END:VEVENT
END:VCALENDAR