BEGIN:VCALENDAR
VERSION:2.0
PRODID:-//Tukios.com/
BEGIN:VEVENT
UID:2fa9878e-8732-4572-b0a4-fa0446ff9951@www.maukandyates.com
DTSTAMP:20260422T180414Z
DTSTART:20260515T150000Z
DTEND:20260515T160000Z
SUMMARY:Memorial Service
DESCRIPTION:
URL:https://www.maukandyates.com/obituaries/doris-holt
LOCATION: 719 N 4th Ave  Altoona PA 16601
GEO:40.5390974;-78.3809912
END:VEVENT
END:VCALENDAR